BEGIN:VCALENDAR
VERSION:2.0
PRODID:-//Libreria In Cerca di Guai - ECPv6.15.12.2//NONSGML v1.0//EN
CALSCALE:GREGORIAN
METHOD:PUBLISH
X-ORIGINAL-URL:https://incercadiguailibreria.it
X-WR-CALDESC:Eventi per Libreria In Cerca di Guai
REFRESH-INTERVAL;VALUE=DURATION:PT1H
X-Robots-Tag:noindex
X-PUBLISHED-TTL:PT1H
BEGIN:VTIMEZONE
TZID:Europe/Rome
BEGIN:DAYLIGHT
TZOFFSETFROM:+0100
TZOFFSETTO:+0200
TZNAME:CEST
DTSTART:20250330T010000
END:DAYLIGHT
BEGIN:STANDARD
TZOFFSETFROM:+0200
TZOFFSETTO:+0100
TZNAME:CET
DTSTART:20251026T010000
END:STANDARD
BEGIN:DAYLIGHT
TZOFFSETFROM:+0100
TZOFFSETTO:+0200
TZNAME:CEST
DTSTART:20260329T010000
END:DAYLIGHT
BEGIN:STANDARD
TZOFFSETFROM:+0200
TZOFFSETTO:+0100
TZNAME:CET
DTSTART:20261025T010000
END:STANDARD
BEGIN:DAYLIGHT
TZOFFSETFROM:+0100
TZOFFSETTO:+0200
TZNAME:CEST
DTSTART:20270328T010000
END:DAYLIGHT
BEGIN:STANDARD
TZOFFSETFROM:+0200
TZOFFSETTO:+0100
TZNAME:CET
DTSTART:20271031T010000
END:STANDARD
END:VTIMEZONE
BEGIN:VEVENT
DTSTART;TZID=Europe/Rome:20260314T163000
DTEND;TZID=Europe/Rome:20260314T173000
DTSTAMP:20260421T124010
CREATED:20260302T110456Z
LAST-MODIFIED:20260302T115424Z
UID:10000030-1773505800-1773509400@incercadiguailibreria.it
SUMMARY:Oggi legge il mio papà
DESCRIPTION:
URL:https://incercadiguailibreria.it/event/oggi-legge-il-mio-papa/
LOCATION:Milano\, via jacopo palma 3\, milano\, MI\, 20146\, Italy
CATEGORIES:BAMBINI 0-3 ANNI,BAMBINI 3- 6 ANNI
ORGANIZER;CN="Libreria":MAILTO:incercadiguailibreria@gmail.com
END:VEVENT
END:VCALENDAR