BEGIN:VCALENDAR
VERSION:2.0
PRODID:-//Libreria In Cerca di Guai - ECPv6.15.12.2//NONSGML v1.0//EN
CALSCALE:GREGORIAN
METHOD:PUBLISH
X-WR-CALNAME:Libreria In Cerca di Guai
X-ORIGINAL-URL:https://incercadiguailibreria.it
X-WR-CALDESC:Eventi per Libreria In Cerca di Guai
REFRESH-INTERVAL;VALUE=DURATION:PT1H
X-Robots-Tag:noindex
X-PUBLISHED-TTL:PT1H
BEGIN:VTIMEZONE
TZID:Europe/Rome
BEGIN:DAYLIGHT
TZOFFSETFROM:+0100
TZOFFSETTO:+0200
TZNAME:CEST
DTSTART:20240331T010000
END:DAYLIGHT
BEGIN:STANDARD
TZOFFSETFROM:+0200
TZOFFSETTO:+0100
TZNAME:CET
DTSTART:20241027T010000
END:STANDARD
BEGIN:DAYLIGHT
TZOFFSETFROM:+0100
TZOFFSETTO:+0200
TZNAME:CEST
DTSTART:20250330T010000
END:DAYLIGHT
BEGIN:STANDARD
TZOFFSETFROM:+0200
TZOFFSETTO:+0100
TZNAME:CET
DTSTART:20251026T010000
END:STANDARD
BEGIN:DAYLIGHT
TZOFFSETFROM:+0100
TZOFFSETTO:+0200
TZNAME:CEST
DTSTART:20260329T010000
END:DAYLIGHT
BEGIN:STANDARD
TZOFFSETFROM:+0200
TZOFFSETTO:+0100
TZNAME:CET
DTSTART:20261025T010000
END:STANDARD
BEGIN:DAYLIGHT
TZOFFSETFROM:+0100
TZOFFSETTO:+0200
TZNAME:CEST
DTSTART:20270328T010000
END:DAYLIGHT
BEGIN:STANDARD
TZOFFSETFROM:+0200
TZOFFSETTO:+0100
TZNAME:CET
DTSTART:20271031T010000
END:STANDARD
END:VTIMEZONE
BEGIN:VEVENT
DTSTART;TZID=Europe/Rome:20260207T103000
DTEND;TZID=Europe/Rome:20260207T123000
DTSTAMP:20260421T104807
CREATED:20260128T092536Z
LAST-MODIFIED:20260128T092536Z
UID:10000016-1770460200-1770467400@incercadiguailibreria.it
SUMMARY:DONNE AVVENTUROSE CHE HANNO FATTO GRANDE MILANO CON PATRIZIA ZELIOLI\, CARTHUSIA
DESCRIPTION:
URL:https://incercadiguailibreria.it/event/donne-avventurose-che-hanno-fatto-grande-milano-con-patrizia-zelioli-carthusia/
LOCATION:Milano\, via jacopo palma 3\, milano\, MI\, 20146\, Italy
ORGANIZER;CN="Libreria":MAILTO:incercadiguailibreria@gmail.com
END:VEVENT
BEGIN:VEVENT
DTSTART;TZID=Europe/Rome:20260207T103000
DTEND;TZID=Europe/Rome:20260207T113000
DTSTAMP:20260421T104807
CREATED:20260126T220759Z
LAST-MODIFIED:20260126T221134Z
UID:10000014-1770460200-1770463800@incercadiguailibreria.it
SUMMARY:KIDDO -DONNE AVVENTUROSE CHE HANNO FATTO GRANDE MILANO CON PATRIZIA ZELIOLI\, CARTHUSIA
DESCRIPTION:DONNE AVVENTUROSE CHE HANNO FATTO GRANDE MILANO CON PATRIZIA ZELIOLI\, CARTHUSIA\nPresentazione del libro\n(da 6 a 10 anni) \nDa Bianca Maria Visconti a Fernanda Wittgens\, da Anna Kuliscioff a Krizia (Mariuccia Mandelli)\, da Amalia Ercoli Finzia a Carla Fracci\, da Alda Merini a Franca Rame\, da Vivian Lamarque a Mariangela Melato e tante altre grandissime donne avventurose. Le loro 28 biografie sono presentate in prima persona\, come se a parlare fossero le voci delle stesse protagoniste. Ognuna di loro racconta la propria storia fatta di aspirazioni\, talento\, determinazione e successi\, ma anche di pregiudizi\, ostacoli e sfide. Sono storie molto diverse tra loro di figure femminili altrettanto differenti\, ma accomunate dalla passione e dal coraggio e da un legame speciale con la città. Questo è il primo di una serie di incontri del progetto Piazza Veronica Gambara femminile plurale\, attraverso cui vogliamo dare voce alle donne milanesi e non che hanno contribuito alle arti\, alla politica\, alla scienza.  gratuito 
URL:https://incercadiguailibreria.it/event/kiddo-donne-avventurose-che-hanno-fatto-grande-milano-con-patrizia-zelioli-carthusia/
LOCATION:Milano\, via jacopo palma 3\, milano\, MI\, 20146\, Italy
CATEGORIES:BAMBINI 6-10 ANNI
ORGANIZER;CN="Libreria":MAILTO:incercadiguailibreria@gmail.com
END:VEVENT
BEGIN:VEVENT
DTSTART;TZID=Europe/Rome:20260205T173000
DTEND;TZID=Europe/Rome:20260205T190000
DTSTAMP:20260421T104807
CREATED:20260128T092302Z
LAST-MODIFIED:20260130T095201Z
UID:10000015-1770312600-1770318000@incercadiguailibreria.it
SUMMARY:LIBRI PER CAPIRE L'AUTISMO CON SANTE BANDIRALI\, UOVONERO
DESCRIPTION:
URL:https://incercadiguailibreria.it/event/libri-per-capire-lautismo-con-sante-bandirali-uovonero/
LOCATION:Milano\, via jacopo palma 3\, milano\, MI\, 20146\, Italy
CATEGORIES:INCONTRO DI FORMAZIONE
END:VEVENT
BEGIN:VEVENT
DTSTART;TZID=Europe/Rome:20260205T173000
DTEND;TZID=Europe/Rome:20260205T190000
DTSTAMP:20260421T104807
CREATED:20260126T220300Z
LAST-MODIFIED:20260126T220300Z
UID:10000013-1770312600-1770318000@incercadiguailibreria.it
SUMMARY:KIDDO - LIBRI PER CAPIRE L'AUTISMO CON SANTE BANDIRALI\, UOVONERO
DESCRIPTION:Nello spettro autistico non esistono crisi improvvise e inspiegabili: il sovraccarico sensoriale è progressivo e la crisi è solo la punta più evidente di un iceberg\, l’ultimo estremo meccanismo di difesa che il bambino autistico mette in campo dopo aver esaurito tutte le sue risorse interne. \nImparare a conoscere come percepiscono gli stimoli le persone con neurodivergenza e capirne il funzionamento può dare un contributo concreto a insegnanti e famiglie nella prevenzione delle crisi\, nella creazione di un ambiente veramente inclusivo che permetta a tutt* di lavorare con tranquillità. \nCon Sante Bandirali della casa editrice Uovonero\, pioniera in Italia negli studi sull’autismo e l’inclusione\, presentiamo il libro “Le percezioni sensoriali nell’autismo” di Olga Bogdashina\, uno dei libri cardine nella storia degli studi sullo spettro\, e le diverse collane a sostegno del lavoro di inclusione a casa e a scuola per bambini e ragazzi con neurodivergenza. gratuito 
URL:https://incercadiguailibreria.it/event/kiddo-libri-per-capire-lautismo-con-sante-bandirali-uovonero/
LOCATION:Milano\, via jacopo palma 3\, milano\, MI\, 20146\, Italy
CATEGORIES:INCONTRO DI FORMAZIONE
ATTACH;FMTTYPE=image/png:https://incercadiguailibreria.it/wp-content/uploads/2026/01/3.png
ORGANIZER;CN="Libreria":MAILTO:incercadiguailibreria@gmail.com
END:VEVENT
BEGIN:VEVENT
DTSTART;TZID=Europe/Rome:20260131T163000
DTEND;TZID=Europe/Rome:20260131T173000
DTSTAMP:20260421T104807
CREATED:20260114T091619Z
LAST-MODIFIED:20260114T091619Z
UID:10000009-1769877000-1769880600@incercadiguailibreria.it
SUMMARY:C'ERA UNA VOLTA
DESCRIPTION:
URL:https://incercadiguailibreria.it/event/cera-una-volta/
LOCATION:Milano\, via jacopo palma 3\, milano\, MI\, 20146\, Italy
ORGANIZER;CN="Libreria":MAILTO:incercadiguailibreria@gmail.com
END:VEVENT
BEGIN:VEVENT
DTSTART;TZID=Europe/Rome:20260131T103000
DTEND;TZID=Europe/Rome:20260131T113000
DTSTAMP:20260421T104807
CREATED:20260114T091437Z
LAST-MODIFIED:20260114T091437Z
UID:10000008-1769855400-1769859000@incercadiguailibreria.it
SUMMARY:LETTURE GRANDI PER PICCOLI LETTORI
DESCRIPTION:
URL:https://incercadiguailibreria.it/event/letture-grandi-per-piccoli-lettori/
LOCATION:Milano\, via jacopo palma 3\, milano\, MI\, 20146\, Italy
ORGANIZER;CN="Libreria":MAILTO:incercadiguailibreria@gmail.com
END:VEVENT
BEGIN:VEVENT
DTSTART;TZID=Europe/Rome:20260128T183000
DTEND;TZID=Europe/Rome:20260128T193000
DTSTAMP:20260421T104807
CREATED:20260114T091825Z
LAST-MODIFIED:20260114T091825Z
UID:10000010-1769625000-1769628600@incercadiguailibreria.it
SUMMARY:GRUPPO DI LETTURA - QUELLO CHE POSSIAMO SAPERE di IAN MCEWAN\, EINAUDI
DESCRIPTION:
URL:https://incercadiguailibreria.it/event/gruppo-di-lettura-quello-che-possiamo-sapere-di-ian-mcewan-einaudi/
LOCATION:Milano\, via jacopo palma 3\, milano\, MI\, 20146\, Italy
ORGANIZER;CN="Libreria":MAILTO:incercadiguailibreria@gmail.com
END:VEVENT
BEGIN:VEVENT
DTSTART;TZID=Europe/Rome:20260124T190000
DTEND;TZID=Europe/Rome:20260124T200000
DTSTAMP:20260421T104807
CREATED:20260114T091259Z
LAST-MODIFIED:20260114T091259Z
UID:10000007-1769281200-1769284800@incercadiguailibreria.it
SUMMARY:GRUPPO DI LETTURA TUTTIGUSTI 10-14 ANNI
DESCRIPTION:
URL:https://incercadiguailibreria.it/event/gruppo-di-lettura-tuttigusti-10-14-anni/
LOCATION:Milano\, via jacopo palma 3\, milano\, MI\, 20146\, Italy
ORGANIZER;CN="Libreria":MAILTO:incercadiguailibreria@gmail.com
END:VEVENT
BEGIN:VEVENT
DTSTART;TZID=Europe/Rome:20260124T163000
DTEND;TZID=Europe/Rome:20260124T173000
DTSTAMP:20260421T104807
CREATED:20260116T102639Z
LAST-MODIFIED:20260116T102639Z
UID:10000012-1769272200-1769275800@incercadiguailibreria.it
SUMMARY:CHE BELLO L'INVERNO! - 16.30
DESCRIPTION:
URL:https://incercadiguailibreria.it/event/che-bello-linverno-16-30/
LOCATION:Milano\, via jacopo palma 3\, milano\, MI\, 20146\, Italy
ORGANIZER;CN="Libreria":MAILTO:incercadiguailibreria@gmail.com
END:VEVENT
BEGIN:VEVENT
DTSTART;TZID=Europe/Rome:20260124T103000
DTEND;TZID=Europe/Rome:20260124T113000
DTSTAMP:20260421T104807
CREATED:20260114T090844Z
LAST-MODIFIED:20260116T102514Z
UID:10000006-1769250600-1769254200@incercadiguailibreria.it
SUMMARY:CHE BELLO L'INVERNO! - 10.30
DESCRIPTION:
URL:https://incercadiguailibreria.it/event/che-bello-linverno/
LOCATION:Milano\, via jacopo palma 3\, milano\, MI\, 20146\, Italy
ORGANIZER;CN="Libreria":MAILTO:incercadiguailibreria@gmail.com
END:VEVENT
BEGIN:VEVENT
DTSTART;TZID=Europe/Rome:20260117T163000
DTEND;TZID=Europe/Rome:20260117T173000
DTSTAMP:20260421T104807
CREATED:20260116T102237Z
LAST-MODIFIED:20260116T102237Z
UID:10000011-1768667400-1768671000@incercadiguailibreria.it
SUMMARY:IL PICCOLISSIMO BRUCO MAISAZIO 16.30
DESCRIPTION:
URL:https://incercadiguailibreria.it/event/il-piccolissimo-bruco-maisazio-16-30/
LOCATION:Milano\, via jacopo palma 3\, milano\, MI\, 20146\, Italy
ORGANIZER;CN="Libreria":MAILTO:incercadiguailibreria@gmail.com
END:VEVENT
BEGIN:VEVENT
DTSTART;VALUE=DATE:20260117
DTEND;VALUE=DATE:20260118
DTSTAMP:20260421T104807
CREATED:20260114T090439Z
LAST-MODIFIED:20260116T150606Z
UID:10000005-1768608000-1768694399@incercadiguailibreria.it
SUMMARY:IL PICCOLISSIMO BRUCO MAISAZIO
DESCRIPTION:
URL:https://incercadiguailibreria.it/event/il-piccolissimo-bruco-maisazio/
LOCATION:Milano\, via jacopo palma 3\, milano\, MI\, 20146\, Italy
ORGANIZER;CN="Libreria":MAILTO:incercadiguailibreria@gmail.com
END:VEVENT
BEGIN:VEVENT
DTSTART;TZID=Europe/Rome:20251213T100000
DTEND;TZID=Europe/Rome:20251213T130000
DTSTAMP:20260421T104807
CREATED:20251127T114614Z
LAST-MODIFIED:20251127T114614Z
UID:10000004-1765620000-1765630800@incercadiguailibreria.it
SUMMARY:GRUPPO DI LETTURA TUTTI I GUSTI
DESCRIPTION:
URL:https://incercadiguailibreria.it/event/gruppo-di-lettura-tutti-i-gusti/
LOCATION:Milano\, via jacopo palma 3\, milano\, MI\, 20146\, Italy
ORGANIZER;CN="Libreria":MAILTO:incercadiguailibreria@gmail.com
END:VEVENT
BEGIN:VEVENT
DTSTART;TZID=Europe/Rome:20251203T183000
DTEND;TZID=Europe/Rome:20251203T203000
DTSTAMP:20260421T104807
CREATED:20251127T114229Z
LAST-MODIFIED:20251127T114229Z
UID:10000003-1764786600-1764793800@incercadiguailibreria.it
SUMMARY:LA CITTÀ FEMMINISTA
DESCRIPTION:
URL:https://incercadiguailibreria.it/event/la-citta-femminista/
LOCATION:Milano\, via jacopo palma 3\, milano\, MI\, 20146\, Italy
ORGANIZER;CN="Libreria":MAILTO:incercadiguailibreria@gmail.com
END:VEVENT
BEGIN:VEVENT
DTSTART;TZID=Europe/Rome:20251201T080000
DTEND;TZID=Europe/Rome:20251201T170000
DTSTAMP:20260421T104807
CREATED:20251125T111316Z
LAST-MODIFIED:20251125T114511Z
UID:10000001-1764576000-1764608400@incercadiguailibreria.it
SUMMARY:VEDO LEGGO CRESCO
DESCRIPTION:
URL:https://incercadiguailibreria.it/event/vedo-leggo-cresco/
LOCATION:Milano\, via jacopo palma 3\, milano\, MI\, 20146\, Italy
ORGANIZER;CN="Libreria":MAILTO:incercadiguailibreria@gmail.com
END:VEVENT
END:VCALENDAR